BEGIN:VCALENDAR
VERSION:2.0
PRODID:-//Fairbank Center for Chinese Studies - ECPv6.15.12.2//NONSGML v1.0//EN
CALSCALE:GREGORIAN
METHOD:PUBLISH
X-WR-CALNAME:Fairbank Center for Chinese Studies
X-ORIGINAL-URL:https://fairbank.fas.harvard.edu
X-WR-CALDESC:Events for Fairbank Center for Chinese Studies
REFRESH-INTERVAL;VALUE=DURATION:PT1H
X-Robots-Tag:noindex
X-PUBLISHED-TTL:PT1H
BEGIN:VTIMEZONE
TZID:America/New_York
BEGIN:DAYLIGHT
TZOFFSETFROM:-0500
TZOFFSETTO:-0400
TZNAME:EDT
DTSTART:20250309T070000
END:DAYLIGHT
BEGIN:STANDARD
TZOFFSETFROM:-0400
TZOFFSETTO:-0500
TZNAME:EST
DTSTART:20251102T060000
END:STANDARD
BEGIN:DAYLIGHT
TZOFFSETFROM:-0500
TZOFFSETTO:-0400
TZNAME:EDT
DTSTART:20260308T070000
END:DAYLIGHT
BEGIN:STANDARD
TZOFFSETFROM:-0400
TZOFFSETTO:-0500
TZNAME:EST
DTSTART:20261101T060000
END:STANDARD
BEGIN:DAYLIGHT
TZOFFSETFROM:-0500
TZOFFSETTO:-0400
TZNAME:EDT
DTSTART:20270314T070000
END:DAYLIGHT
BEGIN:STANDARD
TZOFFSETFROM:-0400
TZOFFSETTO:-0500
TZNAME:EST
DTSTART:20271107T060000
END:STANDARD
END:VTIMEZONE
BEGIN:VEVENT
DTSTART;TZID=America/New_York:20260414T160000
DTEND;TZID=America/New_York:20260414T171500
DTSTAMP:20260419T203400
CREATED:20260406T172004Z
LAST-MODIFIED:20260406T172006Z
UID:44724-1776182400-1776186900@fairbank.fas.harvard.edu
SUMMARY:Machine and Sovereignty: For a Planetary Thinking 
DESCRIPTION:Speaker: Yuk Hui\, Erasmus UniversityModerator: David Der-wei Wang\, Harvard University \n\n\n\n\n\n\n\n\n\n\n\nVenue
URL:https://fairbank.fas.harvard.edu/events/machine-and-sovereignty-for-a-planetary-thinking/
LOCATION:Common Room\, 2 Divinity Ave.\, 2 Divinity Ave.\, Cambridge\, Massachusetts\, 02138\, United States
CATEGORIES:Events of Interest
ATTACH;FMTTYPE=image/jpeg:https://fairbank.fas.harvard.edu/wp-content/uploads/2026/04/yuk-hui.jpg
END:VEVENT
END:VCALENDAR