BEGIN:VCALENDAR
VERSION:2.0
PRODID:-//Fairbank Center for Chinese Studies - ECPv6.15.12.2//NONSGML v1.0//EN
CALSCALE:GREGORIAN
METHOD:PUBLISH
X-WR-CALNAME:Fairbank Center for Chinese Studies
X-ORIGINAL-URL:https://fairbank.fas.harvard.edu
X-WR-CALDESC:Events for Fairbank Center for Chinese Studies
REFRESH-INTERVAL;VALUE=DURATION:PT1H
X-Robots-Tag:noindex
X-PUBLISHED-TTL:PT1H
BEGIN:VTIMEZONE
TZID:America/New_York
BEGIN:DAYLIGHT
TZOFFSETFROM:-0500
TZOFFSETTO:-0400
TZNAME:EDT
DTSTART:20150308T070000
END:DAYLIGHT
BEGIN:STANDARD
TZOFFSETFROM:-0400
TZOFFSETTO:-0500
TZNAME:EST
DTSTART:20151101T060000
END:STANDARD
BEGIN:DAYLIGHT
TZOFFSETFROM:-0500
TZOFFSETTO:-0400
TZNAME:EDT
DTSTART:20160313T070000
END:DAYLIGHT
BEGIN:STANDARD
TZOFFSETFROM:-0400
TZOFFSETTO:-0500
TZNAME:EST
DTSTART:20161106T060000
END:STANDARD
BEGIN:DAYLIGHT
TZOFFSETFROM:-0500
TZOFFSETTO:-0400
TZNAME:EDT
DTSTART:20170312T070000
END:DAYLIGHT
BEGIN:STANDARD
TZOFFSETFROM:-0400
TZOFFSETTO:-0500
TZNAME:EST
DTSTART:20171105T060000
END:STANDARD
END:VTIMEZONE
BEGIN:VEVENT
DTSTART;TZID=America/New_York:20161007T043000
DTEND;TZID=America/New_York:20161008T120000
DTSTAMP:20260424T031942
CREATED:20160719T224149Z
LAST-MODIFIED:20160719T224149Z
UID:1312-1475814600-1475928000@fairbank.fas.harvard.edu
SUMMARY:60th Anniversary Symposium
DESCRIPTION:Listen again to the panels from our 60th Anniversary Symposium:  \n \nWatch again on YouTube (note\, some panels are audio only): \n \nEvent Description \nJoin us for a two-day academic symposium celebrating sixty years of the Fairbank Center’s world-leading research on China and East Asia. \nBy taking a critical look at the prevailing trends in Chinese Studies over the past six decades\, this symposium aims to not only reflect on our Center’s history\, but also discuss how the field will evolve in the future. \nFeaturing panels on key issues confronting China and Chinese Studies in 2016\, the symposium’s cross-disciplinary approach represents the very core of the Fairbank Center’s founding mission: to advance scholarship in all fields of Chinese studies at Harvard. \nFriday\, October 7 \n  \nOpening Remarks \n8:30am \nMichael Szonyi | Director\, Fairbank Center for Chinese Studies\, Professor of Chinese History \n  \n8:45am \nPanel 1: Politics  \nChair: William Kirby | T. M. Chang Professor of China Studies; Spangler Family Professor of Business Administration \nJoseph Fewsmith | Professor of International Relations and Political Science\, Boston University; Fairbank Center Associate \nRoderick MacFarquhar | Leroy B. Williams Research Professor of History and Political Science \nYuhua Wang | Assistant Professor of Government \n  \n10:30am \nPanel 2: China’s Society \nChair: Ya-wen Lei | Assistant Professor of Sociology \nXiang Zhou | Assistant Professor of Government \nDeborah Davis | Professor of Sociology\, Yale University \nYun Zhou | PhD Candidate\, Department of Sociology \n  \nPanel 3: Politics and the Use of History in China Today \nChair: Mark Elliott | Mark Schwartz Professor of Chinese and Inner Asian History; Vice-Provost for International Affairs \nRowan Flad | John E. Hudson Professor of Archaeology \nJing Tsu | Professor of East Asian Languages and Literatures and Comparative Literature\, Yale University \nRudolf Wagner | Senior Professor\, Heidelberg University; Fairbank Center Associate \n  \n1:45pm \nPanel 4: China’s Tibetan and Uighur Nationalities \nChair: Leonard van der Kuijp | Professor of Tibetan and Himalayan Studies \nWeirong Shen | Professor\, Renmin University of China \nBrenton Sullivan | Assistant Professor of Religion\, Colgate University \nRyosuke Kobayashi | Research Fellow\, Toyo Bunko; Visiting Scholar\, Harvard-Yenching Institute \nRian Thum | Assistant Professor of History\, Loyola University \n  \nPanel 5: Economy \nChair: Dwight Perkins | Harold Hitchings Burbank Research Professor of Political Economy\, Emeritus \nRichard Cooper | Maurits C. Boas Professor of International Economics \nDale Jorgenson | Samuel W. Morris University Professor\, Harvard University \nEdward Steinfeld | Howard Swearer Director\, Thomas J. Watson Jr. Institute for International & Public Affairs; Professor of Political Science\, Brown University \n  \n3:30pm \nPanel 6: U.S.-China Relations \nChair: Alastair Iain Johnston | Governor James Albert Noe and Linda Noe Laine Professor of China in World Affairs \nM. Taylor Fravel | Associate Professor of Political Science\, Massachusetts Institute of Technology \nSteven Goldstein | Sophia Smith Professor Emeritus of Government\, Smith College\, Emeritus; Fairbank Center Associate \nKelly Sims Gallagher | Professor of Energy and Environmental Policy\, The Fletcher School\, Tufts University \nRyan Hass | Director for China\, Taiwan\, and Mongolia Affairs\, National Security Council\, The White House \n  \n5:00pm \nReception for the opening of a new exhibition\, featuring paintings by Wilma Fairbank and Marian Schlesinger\, and photography by Sidney Gamble. \n  \n\n  \nSaturday\, October 8 \n10:00am \nPanel 7: Culture  \nChair: Xiaofei Tian | Professor of Chinese Literature \nWai-yee Li | Professor of Chinese Literature \nStephen Owen | James Bryant Conant University Professor \nDavid Wang | Edward C. Henderson Professor of Chinese Literature \nEugene Wang | Abby Aldrich Rockefeller Professor of Asian Art \nEllen Widmer | Mayling Soong Professor of Chinese Studies\, Wellesley College; Fairbank Center Associate \n  \nPanel 8: Global Health\, Global Care for the Elderly and Cross-Cultural Comparisons \nChair: Arthur Kleinman | Esther and Sidney Rabb Professor of Anthropology; Professor of Medical Anthropology in Social Medicine; Professor of Psychiatry \nWinnie Yip |  Professor of Global Health Policy and Economics\, T.H. Chan School of Public Health \nPrerna Singh | Mahatma Gandhi Assistant Professor of Political Science and International and Public Affairs\, Brown University \n  \n11:45am \nPanel 9: China’s Environmental Issues – Historical and Contemporary Perspectives  \nChair: Arunabh Ghosh | Assistant Professor of History \nLing Zhang | Assistant Professor\, History Department\, Boston College \nBrian Lander | Environmental Fellow\, Harvard University Center for the Environment \nElizabeth Lord | Department of Geography and Planning\, University of Toronto \nMichael McElroy | Gilbert Butler Professor of Environmental Studies \n  \n2:30pm \nPanel 10: Former Directors’ Panel \nChair: Michael Szonyi | Director of the Fairbank Center for Chinese Studies; Professor of Chinese History \nMark Elliott | Mark Schwartz Professor of Chinese and Inner Asian History; Vice-Provost for International Affairs \nEzra Vogel | Henry Ford II Professor of the Social Sciences\, Emeritus \nWilt Idema | Professor of Chinese Literature\, Emeritus \nRoderick MacFarquhar | Leroy B. Williams Research Professor of History and Political Science \n 
URL:https://fairbank.fas.harvard.edu/events/60th-anniversary-symposium/
LOCATION:CGIS South\, CGIS South\, 1730 Cambridge St\, Cambridge\, MA\, 02138\, United States
CATEGORIES:Conference and Workshops,Environment,Events of Interest,Exhibitions,Gender Studies,Taiwan Studies
ATTACH;FMTTYPE=:
END:VEVENT
END:VCALENDAR