BEGIN:VCALENDAR
VERSION:2.0
PRODID:-//Fairbank Center for Chinese Studies - ECPv6.15.12.2//NONSGML v1.0//EN
CALSCALE:GREGORIAN
METHOD:PUBLISH
X-WR-CALNAME:Fairbank Center for Chinese Studies
X-ORIGINAL-URL:https://fairbank.fas.harvard.edu
X-WR-CALDESC:Events for Fairbank Center for Chinese Studies
REFRESH-INTERVAL;VALUE=DURATION:PT1H
X-Robots-Tag:noindex
X-PUBLISHED-TTL:PT1H
BEGIN:VTIMEZONE
TZID:America/New_York
BEGIN:DAYLIGHT
TZOFFSETFROM:-0500
TZOFFSETTO:-0400
TZNAME:EDT
DTSTART:20160313T070000
END:DAYLIGHT
BEGIN:STANDARD
TZOFFSETFROM:-0400
TZOFFSETTO:-0500
TZNAME:EST
DTSTART:20161106T060000
END:STANDARD
BEGIN:DAYLIGHT
TZOFFSETFROM:-0500
TZOFFSETTO:-0400
TZNAME:EDT
DTSTART:20170312T070000
END:DAYLIGHT
BEGIN:STANDARD
TZOFFSETFROM:-0400
TZOFFSETTO:-0500
TZNAME:EST
DTSTART:20171105T060000
END:STANDARD
BEGIN:DAYLIGHT
TZOFFSETFROM:-0500
TZOFFSETTO:-0400
TZNAME:EDT
DTSTART:20180311T070000
END:DAYLIGHT
BEGIN:STANDARD
TZOFFSETFROM:-0400
TZOFFSETTO:-0500
TZNAME:EST
DTSTART:20181104T060000
END:STANDARD
END:VTIMEZONE
BEGIN:VEVENT
DTSTART;TZID=America/New_York:20171002T160000
DTEND;TZID=America/New_York:20171002T180000
DTSTAMP:20260421T210354
CREATED:20170919T170440Z
LAST-MODIFIED:20170919T170440Z
UID:5934-1506960000-1506967200@fairbank.fas.harvard.edu
SUMMARY:Buddhist Studies Forum - Tantric Buddhist Communities and Seeking Patronage at Medieval Indian Courts
DESCRIPTION:Speaker: Péter-Dániel Szántó\, All Souls College\, University of Oxford \nThe talk will share some thoughts backed by evidence about how medieval Indian tantric communities were organized socially and economically. It will also present some passages dealing with tantric Buddhist gurus’ various strategies for dealing with royal punishment and patronage.
URL:https://fairbank.fas.harvard.edu/events/buddhist-studies-forum/
CATEGORIES:Buddhist Studies Forum
ATTACH;FMTTYPE=:
END:VEVENT
END:VCALENDAR