BEGIN:VCALENDAR
VERSION:2.0
PRODID:-//Fairbank Center for Chinese Studies - ECPv6.15.12.2//NONSGML v1.0//EN
CALSCALE:GREGORIAN
METHOD:PUBLISH
X-WR-CALNAME:Fairbank Center for Chinese Studies
X-ORIGINAL-URL:https://fairbank.fas.harvard.edu
X-WR-CALDESC:Events for Fairbank Center for Chinese Studies
REFRESH-INTERVAL;VALUE=DURATION:PT1H
X-Robots-Tag:noindex
X-PUBLISHED-TTL:PT1H
BEGIN:VTIMEZONE
TZID:America/New_York
BEGIN:DAYLIGHT
TZOFFSETFROM:-0500
TZOFFSETTO:-0400
TZNAME:EDT
DTSTART:20160313T070000
END:DAYLIGHT
BEGIN:STANDARD
TZOFFSETFROM:-0400
TZOFFSETTO:-0500
TZNAME:EST
DTSTART:20161106T060000
END:STANDARD
BEGIN:DAYLIGHT
TZOFFSETFROM:-0500
TZOFFSETTO:-0400
TZNAME:EDT
DTSTART:20170312T070000
END:DAYLIGHT
BEGIN:STANDARD
TZOFFSETFROM:-0400
TZOFFSETTO:-0500
TZNAME:EST
DTSTART:20171105T060000
END:STANDARD
BEGIN:DAYLIGHT
TZOFFSETFROM:-0500
TZOFFSETTO:-0400
TZNAME:EDT
DTSTART:20180311T070000
END:DAYLIGHT
BEGIN:STANDARD
TZOFFSETFROM:-0400
TZOFFSETTO:-0500
TZNAME:EST
DTSTART:20181104T060000
END:STANDARD
END:VTIMEZONE
BEGIN:VEVENT
DTSTART;TZID=America/New_York:20170308T123000
DTEND;TZID=America/New_York:20170308T140000
DTSTAMP:20260423T003128
CREATED:20170209T154053Z
LAST-MODIFIED:20170209T154053Z
UID:4772-1488976200-1488981600@fairbank.fas.harvard.edu
SUMMARY:Critical Issues Confronting China Series: China Reshapes the Balance of Power: Seeking Peace and Security
DESCRIPTION:Speaker: Professor Robert Ross\, Professor of Political Science at Boston College; Associate\, Fairbank Center for Chinese Studies\, Harvard University \nCo-sponsored by the Fairbank Center for Chinese Studies and the Harvard University Asia Center
URL:https://fairbank.fas.harvard.edu/events/critical-issues-confronting-china-series/
LOCATION:CGIS South S020\, Belfer Case Study Room\, 1730 Cambridge St.\, Cambridge\, MA\, 02138\, United States
CATEGORIES:Co-Sponsored Lectures,Critical Issues Confronting China Series
ATTACH;FMTTYPE=:
END:VEVENT
END:VCALENDAR