BEGIN:VCALENDAR
VERSION:2.0
PRODID:-//Fairbank Center for Chinese Studies - ECPv6.15.12.2//NONSGML v1.0//EN
CALSCALE:GREGORIAN
METHOD:PUBLISH
X-WR-CALNAME:Fairbank Center for Chinese Studies
X-ORIGINAL-URL:https://fairbank.fas.harvard.edu
X-WR-CALDESC:Events for Fairbank Center for Chinese Studies
REFRESH-INTERVAL;VALUE=DURATION:PT1H
X-Robots-Tag:noindex
X-PUBLISHED-TTL:PT1H
BEGIN:VTIMEZONE
TZID:America/New_York
BEGIN:DAYLIGHT
TZOFFSETFROM:-0500
TZOFFSETTO:-0400
TZNAME:EDT
DTSTART:20160313T070000
END:DAYLIGHT
BEGIN:STANDARD
TZOFFSETFROM:-0400
TZOFFSETTO:-0500
TZNAME:EST
DTSTART:20161106T060000
END:STANDARD
BEGIN:DAYLIGHT
TZOFFSETFROM:-0500
TZOFFSETTO:-0400
TZNAME:EDT
DTSTART:20170312T070000
END:DAYLIGHT
BEGIN:STANDARD
TZOFFSETFROM:-0400
TZOFFSETTO:-0500
TZNAME:EST
DTSTART:20171105T060000
END:STANDARD
BEGIN:DAYLIGHT
TZOFFSETFROM:-0500
TZOFFSETTO:-0400
TZNAME:EDT
DTSTART:20180311T070000
END:DAYLIGHT
BEGIN:STANDARD
TZOFFSETFROM:-0400
TZOFFSETTO:-0500
TZNAME:EST
DTSTART:20181104T060000
END:STANDARD
END:VTIMEZONE
BEGIN:VEVENT
DTSTART;TZID=America/New_York:20170322T120000
DTEND;TZID=America/New_York:20170322T130000
DTSTAMP:20260422T201602
CREATED:20170315T202721Z
LAST-MODIFIED:20170315T202721Z
UID:5032-1490184000-1490187600@fairbank.fas.harvard.edu
SUMMARY:Introducing the Chinese Text Project
DESCRIPTION:Speaker: Dr. Donald Sturgeon\, Fairbank Center for Chinese Studies \nThe Chinese Text Project is an online open-access digital library that makes pre-modern Chinese texts available to readers and researchers all around the world. The site attempts to make use of the digital medium to explore new ways of interacting with these texts that are not possible in print. With over thirty thousand titles and more than five billion characters\, the Chinese Text Project is also the largest database of pre-modern Chinese texts in existence. In the second meeting\, Dr. Donald Sturgeon\, the founder and the developer of CText and now a postdoctoral fellow at the Fairbank Center for Chinese Studies\, will introduce the database and the rationale behind it. \nLight refreshments provided. RSVP to Feng-en Tu (hyl.eadh@gmail.com)
URL:https://fairbank.fas.harvard.edu/events/introducing-the-chinese-text-project/
CATEGORIES:Conference and Workshops,Events of Interest,Special Event
ATTACH;FMTTYPE=:
END:VEVENT
END:VCALENDAR