BEGIN:VCALENDAR
VERSION:2.0
PRODID:-//Fairbank Center for Chinese Studies - ECPv6.15.12.2//NONSGML v1.0//EN
CALSCALE:GREGORIAN
METHOD:PUBLISH
X-ORIGINAL-URL:https://fairbank.fas.harvard.edu
X-WR-CALDESC:Events for Fairbank Center for Chinese Studies
REFRESH-INTERVAL;VALUE=DURATION:PT1H
X-Robots-Tag:noindex
X-PUBLISHED-TTL:PT1H
BEGIN:VTIMEZONE
TZID:America/New_York
BEGIN:DAYLIGHT
TZOFFSETFROM:-0500
TZOFFSETTO:-0400
TZNAME:EDT
DTSTART:20190310T070000
END:DAYLIGHT
BEGIN:STANDARD
TZOFFSETFROM:-0400
TZOFFSETTO:-0500
TZNAME:EST
DTSTART:20191103T060000
END:STANDARD
BEGIN:DAYLIGHT
TZOFFSETFROM:-0500
TZOFFSETTO:-0400
TZNAME:EDT
DTSTART:20200308T070000
END:DAYLIGHT
BEGIN:STANDARD
TZOFFSETFROM:-0400
TZOFFSETTO:-0500
TZNAME:EST
DTSTART:20201101T060000
END:STANDARD
BEGIN:DAYLIGHT
TZOFFSETFROM:-0500
TZOFFSETTO:-0400
TZNAME:EDT
DTSTART:20210314T070000
END:DAYLIGHT
BEGIN:STANDARD
TZOFFSETFROM:-0400
TZOFFSETTO:-0500
TZNAME:EST
DTSTART:20211107T060000
END:STANDARD
END:VTIMEZONE
BEGIN:VEVENT
DTSTART;TZID=America/New_York:20200415T123000
DTEND;TZID=America/New_York:20200415T134500
DTSTAMP:20260425T205002
CREATED:20200106T160257Z
LAST-MODIFIED:20200106T160257Z
UID:9022-1586953800-1586958300@fairbank.fas.harvard.edu
SUMMARY:CRITICAL ISSUES CONFRONTING CHINA SERIES FEATURING William Overholt - China-US: The New Game
DESCRIPTION:Read a full transcript of this event here. \nRead event summary here. \nSpeaker: William Overholt\, Senior Research Fellow\, Harvard Kennedy School \nWilliam Overholt joined the Rajawali Foundation Institute for Asia in July 2008 and conducts research on development and governance issues. Previously\, he served as a visiting scholar with the Institute for Asia and continues to be a frequent visitor and speaker at Harvard University. As the former director of RAND’s Center for Asia Pacific Policy\, Overholt held a distinguished chair at the Center. He has long been an important analyst of Asia. Dr. Overholt is the author of America and Asia: The Coming Transformation of Asian Geopolitics (RAND\, 2007)\, as well as The Rise of China (W.W. Norton\, 1993)\, which won the Mainichi News/Asian Affairs Research Center Special Book Prize. He has also written or co-written\, Political Risk (Euromoney\, 1982)\, Strategic Planning and Forecasting\, with William Ascher (John Wiley\, 1983)\, and Asia’s Nuclear Future (Westview Press\, 1976). In 1976\, he founded the semi-annual Global Assessment\, with Zbigniew Brzezinski\, and edited it until 1988. He has also spent 21 years running research teams for investment banks\, including Nomura Securities\, Bankers Trust\, and BankBoston\, mostly in Hong Kong or Singapore. Prior to his banking career\, he was at the Hudson Institute\, directing planning studies. \nPart of the Critical Issues Confronting China Series \nPresented via Zoom Webinar
URL:https://fairbank.fas.harvard.edu/events/critical-issues-confronting-china-series-11/
LOCATION:Massachusetts
CATEGORIES:Critical Issues Confronting China,Critical Issues Confronting China Series
ATTACH;FMTTYPE=:
END:VEVENT
BEGIN:VEVENT
DTSTART;TZID=America/New_York:20200422T123000
DTEND;TZID=America/New_York:20200422T134500
DTSTAMP:20260425T205002
CREATED:20200106T160157Z
LAST-MODIFIED:20200106T160157Z
UID:9021-1587558600-1587563100@fairbank.fas.harvard.edu
SUMMARY:Webinar | James Mulvenon - Beyond Espionage: IP Theft\, Talent Programs\, and Cyber Conflict with China
DESCRIPTION:Read the full transcript of this event here. \nRead the event summary here \nSpeaker: James Mulvenon\, Director of Intelligence Integration\, SOSi Intelligence Solutions Group \nJames Mulvenon is Director of Intelligence Integration for SOSi’s Intelligence Solutions Group\, where he has recruited and trained a team of nearly fifty Chinese\, Russian\, Korean\, Arabic\, Farsi\, Dari\, Pashto\, and Urdu linguist-analysts performing research and analysis for US Government and corporate customers. A Chinese linguist by training\, he is a leading international expert on Chinese cyber\, technology transfer\, espionage\, and military issues. Dr. Mulvenon received his B.A. in China Studies from the University of Michigan\, studied Communist Party History at Fudan University in Shanghai\, and received his Ph.D. in political science from the University of California\, Los Angeles. His dissertation\, published by ME Sharpe in 2001 under the title Soldiers of Fortune\, details the rise and fall of the Chinese military’s international business empire. In 2013 he co-authored Chinese Industrial Espionage\, which is the first full account of the complete range of China’s efforts to illicitly acquire foreign technology.
URL:https://fairbank.fas.harvard.edu/events/critical-issues-confronting-china-series-10/
LOCATION:Massachusetts
CATEGORIES:Critical Issues Confronting China Series
END:VEVENT
BEGIN:VEVENT
DTSTART;TZID=America/New_York:20200424T090000
DTEND;TZID=America/New_York:20200424T173000
DTSTAMP:20260425T205002
CREATED:20190916T164900Z
LAST-MODIFIED:20190916T164900Z
UID:8613-1587718800-1587749400@fairbank.fas.harvard.edu
SUMMARY:*** POSTPONED *** Gender Studies Workshop: Gender and Performance
DESCRIPTION:THIS EVENT HAS BEEN POSTPONED \nParticipants:\nXu\, Peng\, Swarthmore College\nMegan Ammirati\, University of California Davis\nEmily Wilcox\, University of Michigan\nEileen Cheng-yin Chow\,  Duke University\nCatherine Yeh\, Boston University\nMatthew Sommer\, Stanford University\nDavid Wang\,  Harvard University\nClaire Conceison\, Massachusetts Institute of Technology\nTed Hui\, Harvard University \nCommentator: Wai-Yee Li\, Harvard University
URL:https://fairbank.fas.harvard.edu/events/gender-studies-workshop-gender-and-performance/
LOCATION:CGIS South\, Tsai Auditorium (S010)\, 1730 Cambridge St\, Cambridge\, MA\, 02138\, United States
CATEGORIES:Gender Studies
END:VEVENT
BEGIN:VEVENT
DTSTART;TZID=America/New_York:20200429T123000
DTEND;TZID=America/New_York:20200429T134500
DTSTAMP:20260425T205002
CREATED:20200106T160448Z
LAST-MODIFIED:20200106T160448Z
UID:9023-1588163400-1588167900@fairbank.fas.harvard.edu
SUMMARY:Webinar | Carla Freeman - China and the Global Commons: Antarctica\, the High Seas and Outer Space
DESCRIPTION:  \n \n﻿ \nHarvard Fairbank Center for Chinese Studies · China and the Global Commons: Antarctica\, the High Seas\, and Outer Space\, with Carla Freeman\nRead the transcript here \nRead event summary here \nSpeaker: Carla Freeman\, Johns Hopkins School of Advanced Studies \nRegistration required to attend webinar.\nRegister at: https://harvard.zoom.us/webinar/register/WN_nO2aw_tAShW5HfcQ5ddq9w
URL:https://fairbank.fas.harvard.edu/events/carla-freeman-critical-issues-confronting-china-series/
LOCATION:Massachusetts
CATEGORIES:Critical Issues Confronting China Series
END:VEVENT
BEGIN:VEVENT
DTSTART;TZID=America/New_York:20200429T140000
DTEND;TZID=America/New_York:20200429T160000
DTSTAMP:20260425T205002
CREATED:20200408T151808Z
LAST-MODIFIED:20200408T151808Z
UID:9244-1588168800-1588176000@fairbank.fas.harvard.edu
SUMMARY:Webinar | Scott Kennedy - Decoupling from China: A Radical and Dangerous Idea
DESCRIPTION:Harvard Fairbank Center for Chinese Studies · Decoupling from China: A Radical and Dangerous Idea\, with Scott Kennedy\n\nSpeaker: Scott Kennedy\, Senior Adviser and Trustee Chair in Chinese Business and Economics at the Center for Strategic and International Studies (CSIS) \nAn American policy to economically decouple from China is a radical idea\, and if adopted\, would cause substantial damage to American interests. Policies based on “managed interdependence” would be more effective in protecting the economy\, national security\, values\, and public health of the United States.\n\nScott Kennedy is senior adviser and Trustee Chair in Chinese Business and Economics at the Center for Strategic and International Studies (CSIS). A leading authority on Chinese economic policy\, his specific areas of expertise include industrial policy\, technology innovation\, business lobbying\, U.S.-China commercial relations\, and global governance.  He is currently writing a book tentatively titled\, The Power of Innovation:The Strategic Importance of China’s High-Tech Drive. \nRegistration required.\nPlease register at: https://harvard.zoom.us/webinar/register/WN_Ube-jikfSV-ukFFNuoszUw
URL:https://fairbank.fas.harvard.edu/events/webinar-scott-kennedy-decoupling-from-china-a-radical-and-dangerous-idea/
LOCATION:Massachusetts
CATEGORIES:Special Event
ATTACH;FMTTYPE=:
END:VEVENT
END:VCALENDAR