BEGIN:VCALENDAR
VERSION:2.0
PRODID:-//Fairbank Center for Chinese Studies - ECPv6.15.12.2//NONSGML v1.0//EN
CALSCALE:GREGORIAN
METHOD:PUBLISH
X-ORIGINAL-URL:https://fairbank.fas.harvard.edu
X-WR-CALDESC:Events for Fairbank Center for Chinese Studies
REFRESH-INTERVAL;VALUE=DURATION:PT1H
X-Robots-Tag:noindex
X-PUBLISHED-TTL:PT1H
BEGIN:VTIMEZONE
TZID:America/New_York
BEGIN:DAYLIGHT
TZOFFSETFROM:-0500
TZOFFSETTO:-0400
TZNAME:EDT
DTSTART:20190310T070000
END:DAYLIGHT
BEGIN:STANDARD
TZOFFSETFROM:-0400
TZOFFSETTO:-0500
TZNAME:EST
DTSTART:20191103T060000
END:STANDARD
BEGIN:DAYLIGHT
TZOFFSETFROM:-0500
TZOFFSETTO:-0400
TZNAME:EDT
DTSTART:20200308T070000
END:DAYLIGHT
BEGIN:STANDARD
TZOFFSETFROM:-0400
TZOFFSETTO:-0500
TZNAME:EST
DTSTART:20201101T060000
END:STANDARD
BEGIN:DAYLIGHT
TZOFFSETFROM:-0500
TZOFFSETTO:-0400
TZNAME:EDT
DTSTART:20210314T070000
END:DAYLIGHT
BEGIN:STANDARD
TZOFFSETFROM:-0400
TZOFFSETTO:-0500
TZNAME:EST
DTSTART:20211107T060000
END:STANDARD
END:VTIMEZONE
BEGIN:VEVENT
DTSTART;TZID=America/New_York:20200806T120000
DTEND;TZID=America/New_York:20200806T133000
DTSTAMP:20260425T192937
CREATED:20200724T150833Z
LAST-MODIFIED:20200724T150833Z
UID:9437-1596715200-1596720600@fairbank.fas.harvard.edu
SUMMARY:The River Dragon Has Indeed Come! –– Chinese Floods and Flood Management in 2020 and in the Past
DESCRIPTION:Harvard Fairbank Center for Chinese Studies · The River Dragon has indeed come! Chinese Floods and Flood Management in 2020 and in the past\nSpeakers:\nClark ALEJANDRINO\, Trinity College\nChris COURTNEY\, Durham University\nXiangli DING\, Rhode Island School of Design\nYan GAO\, University of Memphis \nModerator: Ling Zhang\, Boston College \nAbout the Speakers:\n \nClark Alejandrino teaches at Trinity College. Clark finished a Ph.D. in East Asian Environmental History at Georgetown University. He specializes in the environmental history of China\, especially its climate and animal history\, covering the fifth to the twentieth century in his research. He is currently preparing a book manuscript on typhoons in the history of the South China coast and preparing to embark on a new project exploring the history of migratory birds in East Asia. At Trinity\, he teaches courses on Chinese history\, environmental history\, world history\, and Pacific history. \nChris Courtney teaches at Durham University (UK). Chris is a social and environmental historian of China\, specializing on the history of Wuhan and its hinterland. His previous research focused upon the history of nature-induced disasters in the 19th and 20th centuries. His monograph The Nature of Disaster in China examined the history of the 1931 Central China Flood. It was awarded the 2019 John K Fairbanks Prize. Chris has also published on topics including the history of environmental religion\, fire disasters\, and Maoist flood (mis)management. His current research focuses on the problem of heat in modern Chinese cities. Using a combination of archival and oral history he is examining how people coped with extreme temperatures through a period of rapid cultural\, political and technological change. He explores how emergent technologies such as ice factories\, electric fans\, and air conditioning transformed the cultural and social landscape of urban China. \nXiangli Ding teaches at the Rhode Island School of Design. His research interests focus on the confluence of nature\, technologies\, economy and political forces in modern China and how that confluence has changed Chinese people’s lives and their relationship with the natural environment. His first book project\, Transforming Waters: Hydroelectricity\, State Making and Social Changes in 20th-Century China\, examines the rise of hydroelectricity in modern China and argues that political powers aided by hydro-technologies consumed not only the natural resources at an unprecedented pace and scale\, but also marginalized local communities in the making of the modern hydropower regime. \nYan Gao teaches at the University of Memphis. Yan specializes in social and environmental history of late imperial and modern China\, and her research focuses on water management of the central Yangzi region. She obtained her Ph.D. from Carnegie Mellon University and held a few research and teaching positions around the world. She was a Carson fellow at the Rachel Carson Center of Ludwig-Maximilians-Universität München\, a visiting post-doctoral researcher at the Max Planck Institute for the History of Science in Berlin\, and a Research Associate at the Global Asia Initiative of Duke University. She has published several scholarly articles. Yan is finalizing a book entitled “Yangzi Waters: Transforming the Water Regime in Late Imperial China.” \nPart of the Environment in Asia series at the Fairbank Center for Chinese Studies\, Harvard University \nThis event is a Zoom webinar. Registration is required.\nClick here to register.
URL:https://fairbank.fas.harvard.edu/events/the-river-dragon-has-indeed-come-chinese-floods-and-flood-management-in-2020-and-in-the-past/
LOCATION:Massachusetts
CATEGORIES:Environment
END:VEVENT
BEGIN:VEVENT
DTSTART;TZID=America/New_York:20200827T090000
DTEND;TZID=America/New_York:20200827T103000
DTSTAMP:20260425T192937
CREATED:20200724T151544Z
LAST-MODIFIED:20200724T151544Z
UID:9438-1598518800-1598524200@fairbank.fas.harvard.edu
SUMMARY:A Celebration of Rudolf G. Wagner
DESCRIPTION:Join family\, friends\, and colleagues as we celebrate the life of Fairbank Center Associate Rudolf Wagner through words\, photographs\, and music. We look forward to seeing you there.
URL:https://fairbank.fas.harvard.edu/events/a-celebration-of-rudolf-g-wagner/
LOCATION:Massachusetts
CATEGORIES:Special Event
ATTACH;FMTTYPE=:
END:VEVENT
END:VCALENDAR