BEGIN:VCALENDAR
VERSION:2.0
PRODID:-//Fairbank Center for Chinese Studies - ECPv6.15.12.2//NONSGML v1.0//EN
CALSCALE:GREGORIAN
METHOD:PUBLISH
X-WR-CALNAME:Fairbank Center for Chinese Studies
X-ORIGINAL-URL:https://fairbank.fas.harvard.edu
X-WR-CALDESC:Events for Fairbank Center for Chinese Studies
REFRESH-INTERVAL;VALUE=DURATION:PT1H
X-Robots-Tag:noindex
X-PUBLISHED-TTL:PT1H
BEGIN:VTIMEZONE
TZID:America/New_York
BEGIN:DAYLIGHT
TZOFFSETFROM:-0500
TZOFFSETTO:-0400
TZNAME:EDT
DTSTART:20160313T070000
END:DAYLIGHT
BEGIN:STANDARD
TZOFFSETFROM:-0400
TZOFFSETTO:-0500
TZNAME:EST
DTSTART:20161106T060000
END:STANDARD
BEGIN:DAYLIGHT
TZOFFSETFROM:-0500
TZOFFSETTO:-0400
TZNAME:EDT
DTSTART:20170312T070000
END:DAYLIGHT
BEGIN:STANDARD
TZOFFSETFROM:-0400
TZOFFSETTO:-0500
TZNAME:EST
DTSTART:20171105T060000
END:STANDARD
BEGIN:DAYLIGHT
TZOFFSETFROM:-0500
TZOFFSETTO:-0400
TZNAME:EDT
DTSTART:20180311T070000
END:DAYLIGHT
BEGIN:STANDARD
TZOFFSETFROM:-0400
TZOFFSETTO:-0500
TZNAME:EST
DTSTART:20181104T060000
END:STANDARD
END:VTIMEZONE
BEGIN:VEVENT
DTSTART;TZID=America/New_York:20170927T160000
DTEND;TZID=America/New_York:20170927T173000
DTSTAMP:20260421T183238
CREATED:20170919T155741Z
LAST-MODIFIED:20170919T155741Z
UID:5888-1506528000-1506533400@fairbank.fas.harvard.edu
SUMMARY:Poetry Reading
DESCRIPTION:Speaker: Dang Zi\,\nTranslator: Eleanor Goodman \nZang Di\, who has been honored three times as one of China’s top ten poets\, is a featured poet at the Princeton Poetry Festival on October 5-6\, 2017. His new collection\, The Roots of Wisdom\, translated by award-winning translator Eleanor Goodman\, will be published at the same time by Zephyr Press. In this bilingual book\, Zang Di uses rich\, emotional language to explore the natural world\, including his beloved Weiming Lake at Peking University — his “Walden.” Zang Di will give readings at Harvard University’s Yenching Library (Common Room) on September 27\, and at Yale University during his visit to the U.S. \nZang Di 臧棣\, a poet\, critic\, translator\, and editor\, was born in Beijing in 1964. He was educated at Peking University\, where he received his Ph.D. in literature in 1997 and where he now teaches. Widely acknowledged as one of the leading poets and literary critics of his generation\, he has won numerous honors and awards\, including the Contemporary China’s Top Ten Prominent Young Poets Award (2005)\, China’s Top Ten Rising Poetry Critics Award (2007)\, the Chinese Poetry Biennial Top Ten Poets Award (2008)\, and the Poet of the Year Award (2008). Zang has published many collections of poetry\, including The Universe Is Flat (2008) and No-Name Lake (2010)\, and edited several major anthologies of modern and contemporary Chinese poetry\, as well as a collection of Chinese translations of Rilke’s poetry. He is the editor of the journal New Poetry Criticism. \nTranslator and poet Eleanor Goodman is a Research Associate at the Fairbank Center at Harvard University. Her translation of the book of poems\, Something Crosses My Mind\, by Wang Xiaoni (Zephyr\, 2014)\, won the 2015 Lucien Stryk Asian Translation Prize\, was short-listed for the 2015 Griffin International Poetry Prize\, and was the recipient of a 2013 PEN/Heim Translation Grant. Her first collection of her own poems\, Nine Dragon Island\, was a finalist for the Drunken Boat First Book Prize\, and was published in 2016 (Enclave Publishing House and Zephyr Press).
URL:https://fairbank.fas.harvard.edu/events/poetry-reading/
CATEGORIES:Co-Sponsored Lectures,Events of Interest,Special Event
END:VEVENT
END:VCALENDAR